BEGIN:VCALENDAR
VERSION:2.0
PRODID:-//CaringTide - ECPv6.15.10//NONSGML v1.0//EN
CALSCALE:GREGORIAN
METHOD:PUBLISH
X-ORIGINAL-URL:https://caringtide.com
X-WR-CALDESC:Events for CaringTide
REFRESH-INTERVAL;VALUE=DURATION:PT1H
X-Robots-Tag:noindex
X-PUBLISHED-TTL:PT1H
BEGIN:VTIMEZONE
TZID:America/Denver
BEGIN:DAYLIGHT
TZOFFSETFROM:-0700
TZOFFSETTO:-0600
TZNAME:MDT
DTSTART:20250309T090000
END:DAYLIGHT
BEGIN:STANDARD
TZOFFSETFROM:-0600
TZOFFSETTO:-0700
TZNAME:MST
DTSTART:20251102T080000
END:STANDARD
BEGIN:DAYLIGHT
TZOFFSETFROM:-0700
TZOFFSETTO:-0600
TZNAME:MDT
DTSTART:20260308T090000
END:DAYLIGHT
BEGIN:STANDARD
TZOFFSETFROM:-0600
TZOFFSETTO:-0700
TZNAME:MST
DTSTART:20261101T080000
END:STANDARD
BEGIN:DAYLIGHT
TZOFFSETFROM:-0700
TZOFFSETTO:-0600
TZNAME:MDT
DTSTART:20270314T090000
END:DAYLIGHT
BEGIN:STANDARD
TZOFFSETFROM:-0600
TZOFFSETTO:-0700
TZNAME:MST
DTSTART:20271107T080000
END:STANDARD
END:VTIMEZONE
BEGIN:VEVENT
DTSTART;TZID=America/Denver:20260528T170000
DTEND;TZID=America/Denver:20260528T180000
DTSTAMP:20260424T150201
CREATED:20251210T195550Z
LAST-MODIFIED:20251210T195550Z
UID:2324-1779987600-1779991200@caringtide.com
SUMMARY:Employment Strategies & Workplace Success
DESCRIPTION:Join CaringTide for a practical and empowering webinar focused on navigating employment with a disability. We’ll explore strategies for job searching\, requesting reasonable accommodations\, building workplace confidence\, and connecting with inclusive employers. Whether you’re entering the workforce for the first time or seeking new opportunities\, this session provides tools\, resources\, and expert insights to support meaningful employment success.
URL:https://caringtide.com/event/employment-strategies-workplace-success/
LOCATION:Virtual Webinar
ATTACH;FMTTYPE=image/png:https://caringtide.com/wp-content/uploads/2025/12/Copy-of-Copy-of-Zoom-Partner-Webinar-Banner-5.png
END:VEVENT
END:VCALENDAR