BEGIN:VCALENDAR
VERSION:2.0
PRODID:-//CaringTide - ECPv6.15.10//NONSGML v1.0//EN
CALSCALE:GREGORIAN
METHOD:PUBLISH
X-ORIGINAL-URL:https://caringtide.com
X-WR-CALDESC:Events for CaringTide
REFRESH-INTERVAL;VALUE=DURATION:PT1H
X-Robots-Tag:noindex
X-PUBLISHED-TTL:PT1H
BEGIN:VTIMEZONE
TZID:America/Denver
BEGIN:DAYLIGHT
TZOFFSETFROM:-0700
TZOFFSETTO:-0600
TZNAME:MDT
DTSTART:20250309T090000
END:DAYLIGHT
BEGIN:STANDARD
TZOFFSETFROM:-0600
TZOFFSETTO:-0700
TZNAME:MST
DTSTART:20251102T080000
END:STANDARD
BEGIN:DAYLIGHT
TZOFFSETFROM:-0700
TZOFFSETTO:-0600
TZNAME:MDT
DTSTART:20260308T090000
END:DAYLIGHT
BEGIN:STANDARD
TZOFFSETFROM:-0600
TZOFFSETTO:-0700
TZNAME:MST
DTSTART:20261101T080000
END:STANDARD
BEGIN:DAYLIGHT
TZOFFSETFROM:-0700
TZOFFSETTO:-0600
TZNAME:MDT
DTSTART:20270314T090000
END:DAYLIGHT
BEGIN:STANDARD
TZOFFSETFROM:-0600
TZOFFSETTO:-0700
TZNAME:MST
DTSTART:20271107T080000
END:STANDARD
END:VTIMEZONE
BEGIN:VEVENT
DTSTART;TZID=America/Denver:20260430T170000
DTEND;TZID=America/Denver:20260430T180000
DTSTAMP:20260424T130702
CREATED:20251210T195436Z
LAST-MODIFIED:20251210T195436Z
UID:2322-1777568400-1777572000@caringtide.com
SUMMARY:IEP Support & Educational Advocacy
DESCRIPTION:Join us for a practical\, empowering webinar designed to help parents and caregivers confidently navigate the IEP process. We’ll clarify your rights\, explain how to participate effectively in meetings\, and share strategies for building collaborative relationships with school teams—so your child’s educational needs are fully supported.
URL:https://caringtide.com/event/iep-support-educational-advocacy/
LOCATION:Virtual Webinar
ATTACH;FMTTYPE=image/png:https://caringtide.com/wp-content/uploads/2025/12/Copy-of-Copy-of-Zoom-Partner-Webinar-Banner-5.png
END:VEVENT
END:VCALENDAR