BEGIN:VCALENDAR
VERSION:2.0
PRODID:-//CaringTide - ECPv6.15.10//NONSGML v1.0//EN
CALSCALE:GREGORIAN
METHOD:PUBLISH
X-ORIGINAL-URL:https://caringtide.com
X-WR-CALDESC:Events for CaringTide
REFRESH-INTERVAL;VALUE=DURATION:PT1H
X-Robots-Tag:noindex
X-PUBLISHED-TTL:PT1H
BEGIN:VTIMEZONE
TZID:America/Denver
BEGIN:DAYLIGHT
TZOFFSETFROM:-0700
TZOFFSETTO:-0600
TZNAME:MDT
DTSTART:20250309T090000
END:DAYLIGHT
BEGIN:STANDARD
TZOFFSETFROM:-0600
TZOFFSETTO:-0700
TZNAME:MST
DTSTART:20251102T080000
END:STANDARD
BEGIN:DAYLIGHT
TZOFFSETFROM:-0700
TZOFFSETTO:-0600
TZNAME:MDT
DTSTART:20260308T090000
END:DAYLIGHT
BEGIN:STANDARD
TZOFFSETFROM:-0600
TZOFFSETTO:-0700
TZNAME:MST
DTSTART:20261101T080000
END:STANDARD
BEGIN:DAYLIGHT
TZOFFSETFROM:-0700
TZOFFSETTO:-0600
TZNAME:MDT
DTSTART:20270314T090000
END:DAYLIGHT
BEGIN:STANDARD
TZOFFSETFROM:-0600
TZOFFSETTO:-0700
TZNAME:MST
DTSTART:20271107T080000
END:STANDARD
END:VTIMEZONE
BEGIN:VEVENT
DTSTART;TZID=America/Denver:20260428T180000
DTEND;TZID=America/Denver:20260428T190000
DTSTAMP:20260424T125646
CREATED:20260310T170956Z
LAST-MODIFIED:20260310T170956Z
UID:2599-1777399200-1777402800@caringtide.com
SUMMARY:Sibling Support
DESCRIPTION:Siblings carry a unique role that blends love\, pride\, worry\, and responsibility. This webinar gives caregivers/siblings a space to be seen and understood. We will talk about the support siblings need at different ages\, the joy they often feel\, the grief they may not always share out loud\, and the overwhelm they may feel about being a caregiver in the future. We will also cover what caregivers and professionals should know so siblings are not overlooked and have what they need to thrive. \nRegister here:  https://us06web.zoom.us/meeting/register/aGZx3DoKTeSq6iT-kxFcig
URL:https://caringtide.com/event/sibling-support/
LOCATION:Virtual Webinar
ATTACH;FMTTYPE=image/png:https://caringtide.com/wp-content/uploads/2026/03/Happiness-is-DS-banner.png
END:VEVENT
END:VCALENDAR